BEGIN:VCALENDAR
VERSION:2.0
PRODID:-//ChamberMaster//Event Calendar 2.0//EN
METHOD:PUBLISH
X-PUBLISHED-TTL:P3D
REFRESH-INTERVAL:P3D
CALSCALE:GREGORIAN
BEGIN:VEVENT
DTSTART:20240912T160000Z
DTEND:20240912T180000Z
X-MICROSOFT-CDO-ALLDAYEVENT:FALSE
SUMMARY:Women in Business Luncheon 2024
DESCRIPTION:Join the Arab Chamber of Commerce for a day of celebrating local women in business. Guests will enjoy a light lunch with a special presentation by Laura Jean Belk - an entrepreneur\, faith-based wellness advocate\, podcaster\, and author. \n\n\n\nFollowing the presentation there will be a panel discussion for the audience to ask questions from local experts regarding all things business and women's health. There will also be door prizes\, and other activities to enjoy throughout the event. \n\n\n\nTickets for the event are $20 per member and $25 per non-member.  Table sponsorships are $250 and are available on a limited basis at the Chamber office or online. An online processing fee may apply.
X-ALT-DESC;FMTTYPE=text/html:Join the Arab Chamber of Commerce for a day of celebrating local women in business. Guests will enjoy a light lunch with a special presentation by Laura Jean Belk - an entrepreneur\, faith-based wellness advocate\, podcaster\, and author.&nbsp\;<br />\n<br />\nFollowing the presentation there will be a panel discussion for the audience to ask questions from local experts regarding all things business and women&#39\;s health. There will also be door prizes\, and other activities to enjoy throughout the event.&nbsp\;<br />\n<br />\nTickets for the event are $20 per member and $25 per non-member.&nbsp\; Table sponsorships are $250 and are available on a limited basis at the Chamber office or online. An online processing fee may apply.&nbsp\;
LOCATION:The event will be held at the Cherokee Ridge Country Club located at 4000 Cherokee Ridge Drive\, Union Grove\, AL 35175.
UID:e.848.2676
SEQUENCE:3
DTSTAMP:20260422T224013Z
URL:https://cm.arab-chamber.org/events/details/women-in-business-luncheon-2024-2676
END:VEVENT

END:VCALENDAR
