BEGIN:VCALENDAR
VERSION:2.0
PRODID:-//ChamberMaster//Event Calendar 2.0//EN
METHOD:PUBLISH
X-PUBLISHED-TTL:P3D
REFRESH-INTERVAL:P3D
CALSCALE:GREGORIAN
BEGIN:VEVENT
DTSTART:20251217T180000Z
DTEND:20251217T190000Z
X-MICROSOFT-CDO-ALLDAYEVENT:FALSE
SUMMARY:Monthly Ambassador Meeting
DESCRIPTION:
X-ALT-DESC;FMTTYPE=text/html:
LOCATION:
UID:e.848.2196
SEQUENCE:3
DTSTAMP:20260419T195756Z
URL:https://cm.arab-chamber.org/events/details/monthly-ambassador-meeting-12-17-2025-2196
END:VEVENT

END:VCALENDAR
