BEGIN:VCALENDAR
VERSION:2.0
PRODID:-//ChamberMaster//Event Calendar 2.0//EN
METHOD:PUBLISH
X-PUBLISHED-TTL:P3D
REFRESH-INTERVAL:P3D
CALSCALE:GREGORIAN
BEGIN:VEVENT
DTSTART:20240821T170000Z
DTEND:20240821T180000Z
X-MICROSOFT-CDO-ALLDAYEVENT:FALSE
SUMMARY:Monthly Ambassador Meeting
DESCRIPTION:
X-ALT-DESC;FMTTYPE=text/html:
LOCATION:
UID:e.848.2180
SEQUENCE:3
DTSTAMP:20260422T224348Z
URL:https://cm.arab-chamber.org/events/details/monthly-ambassador-meeting-08-21-2024-2180
END:VEVENT

END:VCALENDAR
