BEGIN:VCALENDAR
VERSION:2.0
PRODID:-//ChamberMaster//Event Calendar 2.0//EN
METHOD:PUBLISH
X-PUBLISHED-TTL:P3D
REFRESH-INTERVAL:P3D
CALSCALE:GREGORIAN
BEGIN:VEVENT
DTSTART:20270120T180000Z
DTEND:20270120T190000Z
X-MICROSOFT-CDO-ALLDAYEVENT:FALSE
SUMMARY:Monthly Ambassador Meeting
DESCRIPTION:
X-ALT-DESC;FMTTYPE=text/html:
LOCATION:
UID:e.848.2209
SEQUENCE:3
DTSTAMP:20260422T090938Z
URL:https://cm.arab-chamber.org/events/details/monthly-ambassador-meeting-01-20-2027-2209
END:VEVENT

END:VCALENDAR
