BEGIN:VCALENDAR
VERSION:2.0
PRODID:-//ChamberMaster//Event Calendar 2.0//EN
METHOD:PUBLISH
X-PUBLISHED-TTL:P3D
REFRESH-INTERVAL:P3D
CALSCALE:GREGORIAN
BEGIN:VEVENT
DTSTART:20200508T170000Z
DTEND:20200508T180000Z
X-MICROSOFT-CDO-ALLDAYEVENT:FALSE
SUMMARY:Membership Basics Workshop
DESCRIPTION:The Arab Chamber of Commerce will be hosting a monthly Membership Basics Workshop providing members with important and relevant information for both large and small business! You can look forward to learning more about your member benefits and how to use them\, plus bonus workshops on marketing strategies\, financial basics\, and more.\n\n\n\nCall 256.586.3138 or e-mail bhemphill@arab-chamber.org to register.
X-ALT-DESC;FMTTYPE=text/html:<span style="color: rgb(41\, 75\, 147)\; font-family: Arial\, Verdana\, Helvetica\, sans-serif\; font-size: 18px\; font-weight: 700\; white-space: pre-wrap\;">The Arab Chamber of Commerce will be hosting a monthly Membership Basics Workshop providing members with important and relevant information for both large and small business! You can look forward to learning more about your member benefits and how to use them\, plus bonus workshops on marketing strategies\, financial basics\, and more.</span><br />\n<br />\n<b style="color: rgb(41\, 75\, 147)\; font-family: Arial\, Verdana\, Helvetica\, sans-serif\; font-size: 18px\; white-space: pre-wrap\;">Call 256.586.3138 or e-mail bhemphill@arab-chamber.org to register.</b>
LOCATION:TBA
UID:e.848.2442
SEQUENCE:3
DTSTAMP:20260422T205906Z
URL:https://cm.arab-chamber.org/events/details/membership-basics-workshop-2442
END:VEVENT

END:VCALENDAR
