BEGIN:VCALENDAR
VERSION:2.0
PRODID:-//ChamberMaster//Event Calendar 2.0//EN
METHOD:PUBLISH
X-PUBLISHED-TTL:P3D
REFRESH-INTERVAL:P3D
CALSCALE:GREGORIAN
BEGIN:VEVENT
DTSTART:20250214T000000Z
DTEND:20250214T030000Z
X-MICROSOFT-CDO-ALLDAYEVENT:FALSE
SUMMARY:Galentines Day Business After Hours
DESCRIPTION:Wear your pink and reds and grab a friend for a night out with other leading ladies of Arab! Enjoy table-side guacamole\, a signature Galentines Day margarita\, and networking during this Business After Hours event at Sofia's Mexican Restaurant. This event is free for Chamber Members (registration required) and $10 for non-members.  Admission includes one drink ticket\, with additional tickets available for purchase.
X-ALT-DESC;FMTTYPE=text/html:Wear your pink and reds and grab a friend for a night out with other leading ladies of Arab! Enjoy table-side guacamole\, a signature Galentines Day margarita\, and networking during this Business After Hours event at Sofia&#39\;s Mexican Restaurant. This event is free for Chamber Members (registration required) and $10 for non-members.&nbsp\; Admission includes one drink ticket\, with additional tickets available for purchase.&nbsp\;
LOCATION:Sofia's Mexican Restaurant - 1432 N Brindlee Mountain Pkwy\, Arab\, AL 35016
UID:e.848.2678
SEQUENCE:3
DTSTAMP:20260422T120426Z
URL:https://cm.arab-chamber.org/events/details/galentines-day-business-after-hours-2678
END:VEVENT

END:VCALENDAR
