BEGIN:VCALENDAR
VERSION:2.0
PRODID:-//ChamberMaster//Event Calendar 2.0//EN
METHOD:PUBLISH
X-PUBLISHED-TTL:P3D
REFRESH-INTERVAL:P3D
CALSCALE:GREGORIAN
BEGIN:VEVENT
DTSTART:20201119T140000Z
DTEND:20201119T150000Z
X-MICROSOFT-CDO-ALLDAYEVENT:FALSE
SUMMARY:Chamber's Education Breakfast
DESCRIPTION:Arab City Schools Foundation will discuss the business community's continued partnership with our education system and will present annual teacher grants.
X-ALT-DESC;FMTTYPE=text/html:Arab City Schools Foundation will discuss the business community&#39\;s continued partnership with our education system and will present annual teacher grants.
LOCATION:TBA
UID:e.848.2454
SEQUENCE:3
DTSTAMP:20260419T115429Z
URL:https://cm.arab-chamber.org/events/details/chamber-s-education-breakfast-2454
END:VEVENT

END:VCALENDAR
