BEGIN:VCALENDAR
VERSION:2.0
PRODID:-//ChamberMaster//Event Calendar 2.0//EN
METHOD:PUBLISH
X-PUBLISHED-TTL:P3D
REFRESH-INTERVAL:P3D
CALSCALE:GREGORIAN
BEGIN:VEVENT
DTSTART:20261216T140000Z
DTEND:20261216T180000Z
X-MICROSOFT-CDO-ALLDAYEVENT:FALSE
SUMMARY:Board Meeting
DESCRIPTION:
X-ALT-DESC;FMTTYPE=text/html:
LOCATION:
UID:e.848.2578
SEQUENCE:3
DTSTAMP:20260420T064223Z
URL:https://cm.arab-chamber.org/events/details/board-meeting-12-16-2026-2578
END:VEVENT

END:VCALENDAR
