BEGIN:VCALENDAR
VERSION:2.0
PRODID:-//ChamberMaster//Event Calendar 2.0//EN
METHOD:PUBLISH
X-PUBLISHED-TTL:P3D
REFRESH-INTERVAL:P3D
CALSCALE:GREGORIAN
BEGIN:VEVENT
DTSTART:20241211T133000Z
DTEND:20241211T133000Z
X-MICROSOFT-CDO-ALLDAYEVENT:FALSE
SUMMARY:Board Meeting
DESCRIPTION:
X-ALT-DESC;FMTTYPE=text/html:
LOCATION:
UID:e.848.1813
SEQUENCE:3
DTSTAMP:20260422T193400Z
URL:https://cm.arab-chamber.org/events/details/board-meeting-12-11-2024-1813
END:VEVENT

END:VCALENDAR
