BEGIN:VCALENDAR
VERSION:2.0
PRODID:-//ChamberMaster//Event Calendar 2.0//EN
METHOD:PUBLISH
X-PUBLISHED-TTL:P3D
REFRESH-INTERVAL:P3D
CALSCALE:GREGORIAN
BEGIN:VEVENT
DTSTART:20280920T130000Z
DTEND:20280920T170000Z
X-MICROSOFT-CDO-ALLDAYEVENT:FALSE
SUMMARY:Board Meeting
DESCRIPTION:
X-ALT-DESC;FMTTYPE=text/html:
LOCATION:
UID:e.848.2599
SEQUENCE:3
DTSTAMP:20260423T165718Z
URL:https://cm.arab-chamber.org/events/details/board-meeting-09-20-2028-2599
END:VEVENT

END:VCALENDAR
