BEGIN:VCALENDAR
VERSION:2.0
PRODID:-//ChamberMaster//Event Calendar 2.0//EN
METHOD:PUBLISH
X-PUBLISHED-TTL:P3D
REFRESH-INTERVAL:P3D
CALSCALE:GREGORIAN
BEGIN:VEVENT
DTSTART:20231208T000000Z
DTEND:20231208T010000Z
X-MICROSOFT-CDO-ALLDAYEVENT:FALSE
SUMMARY:Arab Chamber of Commerce's Annual Christmas Parade
DESCRIPTION:
X-ALT-DESC;FMTTYPE=text/html:<p>&nbsp\;</p>\n\n<p>&nbsp\;</p>\n
LOCATION:Downtown Main Street
UID:e.848.2467
SEQUENCE:3
DTSTAMP:20260423T130808Z
URL:https://cm.arab-chamber.org/events/details/arab-chamber-of-commerce-s-annual-christmas-parade-12-07-2023-2467
END:VEVENT

END:VCALENDAR
