BEGIN:VCALENDAR
VERSION:2.0
PRODID:-//ChamberMaster//Event Calendar 2.0//EN
METHOD:PUBLISH
X-PUBLISHED-TTL:P3D
REFRESH-INTERVAL:P3D
CALSCALE:GREGORIAN
BEGIN:VEVENT
DTSTART;VALUE=DATE:20250502
DTEND;VALUE=DATE:20250503
TRANSP:TRANSPARENT
X-MICROSOFT-CDO-ALLDAYEVENT:TRUE
SUMMARY:Arab Chamber Golf Classic 2025
DESCRIPTION:Please make plans to join us and The Bowling Agency for the annual Arab Chamber Golf Classic on Friday\, May 2. Enjoy a day of golf and networking at the beautiful Twin Lakes Golf Course. \n\n\n\nTeams will be made up of four players for $400. Mulligans are available for $25 each\, and teams that pre-purchase a set of 4 ahead of the event will receive a 5th free. \n\n\n\nThe Chamber will be adding to the fun of the event with Longest Drive & Closest to the Pin Contests\, and a Beat the Pro challenge. More details to come soon.
X-ALT-DESC;FMTTYPE=text/html:Please make plans to join us and The Bowling Agency for the annual Arab Chamber Golf Classic on Friday\, May 2. Enjoy a day of golf and networking at the beautiful Twin Lakes Golf Course.&nbsp\;<br />\n<br />\nTeams will be made up of four players for $400. Mulligans are available for $25 each\, and teams that pre-purchase a set of 4 ahead of the event will receive a 5th free.&nbsp\;<br />\n<br />\nThe Chamber will be adding to the fun of the event with Longest Drive &amp\; Closest to the Pin Contests\, and a Beat the Pro challenge. More details to come soon.&nbsp\;<br />\n<br />\n&nbsp\;
LOCATION:Twin Lakes Golf Course 211 Golfview Dr NE Arab\, AL 35016
UID:e.848.2680
SEQUENCE:3
DTSTAMP:20260420T075908Z
URL:https://cm.arab-chamber.org/events/details/arab-chamber-golf-classic-2025-2680
END:VEVENT

END:VCALENDAR
