BEGIN:VCALENDAR
VERSION:2.0
PRODID:-//ChamberMaster//Event Calendar 2.0//EN
METHOD:PUBLISH
X-PUBLISHED-TTL:P3D
REFRESH-INTERVAL:P3D
CALSCALE:GREGORIAN
BEGIN:VEVENT
DTSTART:20250306T230000Z
DTEND:20250307T030000Z
X-MICROSOFT-CDO-ALLDAYEVENT:FALSE
SUMMARY:Annual Awards Banquet 2025
DESCRIPTION:Step into a Winter Wonderland and celebrate our local champions at the Arab Chamber of Commerce Annual Awards Banquet on March 6. This event is a special evening to celebrate the local businesses and organizations that make Arab a wonderful place to live\, work\, and raise a family. \n\nThe evening will begin with a social hour at 5 p.m. with the awards ceremony to follow. Awards will be presented for: Citizen of the Year\, Educator of the Year\, Business of the Year\, and an all new Community Impact Award. Nominations for each award will be opened on Thursday\, January 23 and remain open until Wednesday\, February 26. All nominations will be reviewed by a committee and the winners will be announced during the awards ceremony.
X-ALT-DESC;FMTTYPE=text/html:<p style="box-sizing: border-box\; padding-right: var(--wp--preset--spacing--30)\; padding-left: var(--wp--preset--spacing--30)\; color: rgb(122\, 122\, 122)\; font-family: Roboto\, sans-serif\; font-size: 16.8px\;">Step into a Winter Wonderland and celebrate our local champions at the Arab Chamber of Commerce Annual Awards Banquet on March 6. This event is a special evening to celebrate the local businesses and organizations that make Arab a wonderful place to live\, work\, and raise a family.&nbsp\;</p>\n\n<p style="box-sizing: border-box\; padding-right: var(--wp--preset--spacing--30)\; padding-left: var(--wp--preset--spacing--30)\; color: rgb(122\, 122\, 122)\; font-family: Roboto\, sans-serif\; font-size: 16.8px\;">The evening will begin with a social hour at 5 p.m. with the awards ceremony to follow. Awards will be presented for: Citizen of the Year\, Educator of the Year\, Business of the Year\, and an all new Community Impact Award. Nominations for each award will be opened on Thursday\, January 23 and remain open until Wednesday\, February 26. All nominations will be reviewed by a committee and the winners will be announced during the awards ceremony.</p>\n
LOCATION:The Old Greenhouse - 909 N Brindlee Mountain Pkwy\, Arab\, AL 35016
UID:e.848.2679
SEQUENCE:3
DTSTAMP:20260422T104956Z
URL:https://cm.arab-chamber.org/events/details/annual-awards-banquet-2025-2679
END:VEVENT

END:VCALENDAR
