BEGIN:VCALENDAR
VERSION:2.0
PRODID:-//ChamberMaster//Event Calendar 2.0//EN
METHOD:PUBLISH
X-PUBLISHED-TTL:P3D
REFRESH-INTERVAL:P3D
CALSCALE:GREGORIAN
BEGIN:VEVENT
DTSTART:20260211T000000Z
DTEND:20260211T020000Z
X-MICROSOFT-CDO-ALLDAYEVENT:FALSE
SUMMARY:2026 Galentine's Business After Hours
DESCRIPTION:Bring on the pinks and reds and join us for Galentine's!\n\nGrab your girlfriends and enjoy a night out with the Chamber at Sofia's Mexican Restaurant on Tuesday\, February 10th at 6:00 PM. Sip on margaritas\, snack on chips and salsa\, and catch up with old friends (or make new ones!). We can't wait to play games and give you the chance to win fun door prizes we can't wait to celebrate with you!
X-ALT-DESC;FMTTYPE=text/html:Bring on the pinks and reds and join us for <strong data-end="139" data-start="124">Galentine&rsquo\;s!</strong><br data-end="146" data-start="143" />\nGrab your girlfriends and enjoy a night out with the Chamber at <strong data-end="240" data-start="210">Sofia&rsquo\;s Mexican Restaurant</strong> on <strong data-end="281" data-start="244">Tuesday\, February 10th at 6:00 PM</strong>. Sip on margaritas\, snack on chips and salsa\, and catch up with old friends (or make new ones!). We can&rsquo\;t wait to play games and give you the chance to win fun <strong data-end="457" data-start="442">door prizes</strong>&mdash\;we can&rsquo\;t wait to celebrate with you!
LOCATION:Sofia's Mexican Restaurant 1432 N Brindlee Mountain Pkwy\, Arab\, AL 35016
UID:e.848.2684
SEQUENCE:3
DTSTAMP:20260419T182133Z
URL:https://cm.arab-chamber.org/events/details/2026-galentine-s-business-after-hours-2684
END:VEVENT

END:VCALENDAR
