BEGIN:VCALENDAR
VERSION:2.0
PRODID:-//ChamberMaster//Event Calendar 2.0//EN
METHOD:PUBLISH
X-PUBLISHED-TTL:P3D
REFRESH-INTERVAL:P3D
CALSCALE:GREGORIAN
BEGIN:VEVENT
DTSTART:20231208T000000Z
DTEND:20231208T010000Z
X-MICROSOFT-CDO-ALLDAYEVENT:FALSE
SUMMARY:2023 Christmas Parade
DESCRIPTION:The Annual Arab Christmas Parade
X-ALT-DESC;FMTTYPE=text/html:The Annual Arab Christmas Parade&nbsp\;
LOCATION:Downtown Arab AL
UID:e.848.2675
SEQUENCE:3
DTSTAMP:20260423T125811Z
URL:https://cm.arab-chamber.org/events/details/2023-christmas-parade-2675
END:VEVENT

END:VCALENDAR
